BEGIN:VCALENDAR
VERSION:2.0
PRODID:-// - ECPv6.15.14//NONSGML v1.0//EN
CALSCALE:GREGORIAN
METHOD:PUBLISH
X-ORIGINAL-URL:https://socialjusticemv.org
X-WR-CALDESC:Events for 
REFRESH-INTERVAL;VALUE=DURATION:PT1H
X-Robots-Tag:noindex
X-PUBLISHED-TTL:PT1H
BEGIN:VTIMEZONE
TZID:America/New_York
BEGIN:DAYLIGHT
TZOFFSETFROM:-0500
TZOFFSETTO:-0400
TZNAME:EDT
DTSTART:20160313T070000
END:DAYLIGHT
BEGIN:STANDARD
TZOFFSETFROM:-0400
TZOFFSETTO:-0500
TZNAME:EST
DTSTART:20161106T060000
END:STANDARD
BEGIN:DAYLIGHT
TZOFFSETFROM:-0500
TZOFFSETTO:-0400
TZNAME:EDT
DTSTART:20170312T070000
END:DAYLIGHT
BEGIN:STANDARD
TZOFFSETFROM:-0400
TZOFFSETTO:-0500
TZNAME:EST
DTSTART:20171105T060000
END:STANDARD
BEGIN:DAYLIGHT
TZOFFSETFROM:-0500
TZOFFSETTO:-0400
TZNAME:EDT
DTSTART:20180311T070000
END:DAYLIGHT
BEGIN:STANDARD
TZOFFSETFROM:-0400
TZOFFSETTO:-0500
TZNAME:EST
DTSTART:20181104T060000
END:STANDARD
END:VTIMEZONE
BEGIN:VTIMEZONE
TZID:America/Denver
BEGIN:DAYLIGHT
TZOFFSETFROM:-0700
TZOFFSETTO:-0600
TZNAME:MDT
DTSTART:20160313T090000
END:DAYLIGHT
BEGIN:STANDARD
TZOFFSETFROM:-0600
TZOFFSETTO:-0700
TZNAME:MST
DTSTART:20161106T080000
END:STANDARD
BEGIN:DAYLIGHT
TZOFFSETFROM:-0700
TZOFFSETTO:-0600
TZNAME:MDT
DTSTART:20170312T090000
END:DAYLIGHT
BEGIN:STANDARD
TZOFFSETFROM:-0600
TZOFFSETTO:-0700
TZNAME:MST
DTSTART:20171105T080000
END:STANDARD
BEGIN:DAYLIGHT
TZOFFSETFROM:-0700
TZOFFSETTO:-0600
TZNAME:MDT
DTSTART:20180311T090000
END:DAYLIGHT
BEGIN:STANDARD
TZOFFSETFROM:-0600
TZOFFSETTO:-0700
TZNAME:MST
DTSTART:20181104T080000
END:STANDARD
END:VTIMEZONE
BEGIN:VEVENT
DTSTART;TZID=America/New_York:20170522T190000
DTEND;TZID=America/New_York:20170522T210000
DTSTAMP:20260423T114049
CREATED:20170316T065518Z
LAST-MODIFIED:20170505T032557Z
UID:105-1495479600-1495486800@socialjusticemv.org
SUMMARY:Second Community Forum on Immigration
DESCRIPTION:Join ACLU of Massachusetts’ legal counsel and advocate Laura Rotolo and Cape Cod attorney Gabriella Bonfim Moraes at the Marthaâ€™s Vineyard Hebrew Center on Monday\, May 22 at 7 PM at 130 Center Street in Vineyard Haven to discuss the Trump administrationâ€™s Executive Orders of Immigration\, the Muslim Ban and what we can do in Massachusetts to stop these unconstitutional practices. State Rep. Dylan Fernandes will also participate in the program. This event\, co-sponsored by the Marthaâ€™s Vineyard Social Justice Leadership Foundation and the Marthaâ€™s Vineyard Hebrew Center Social Action Committee.\n\nAdmission is free. The program will be presented in both English and Portuguese and will be live streamed.\n\n\n\n\nAttorney Rotolo will discuss the ACLU of Massachusetts’ pro-active Freedom Agenda in the legislature\, as well as provide a basic Know Your Rights training for participants. Attorney Moraes will focus on Know Your Rights material. State Rep. Fernandes will talk about the proposed Safe Communities Act.\n\n\n\n\nThe ACLU of Massachusetts is a non-partisan organization dedicated to protecting the U.S. and Massachusetts’ Constitutions and Bill of Rights (www.aclum.org).\n\n\nSecond Community Forum on Immigration Panel Bios:\nGabriella Bonfim Moraes\nGabriella Bonfim Moraes has been assisting clients to achieve their personal and professional goals through proper immigration law procedures for almost a decade. Her practice involves the preparation of family and work visas\, as well as green card and waiver applications.\n\n\n\n\n\n\nShe has worked as an associate attorney at a Boston law firm\, where her experience included drafting business contracts\, writing appeals to federal agencies to challenge immigration rulings\, and working on business transactions relating to the mining industries in Asia. Attorney Gabriella also has international experience. She represented clients over public concessions and infrastructure projects\, and provided counseling in all areas of legislative and electoral law. Also\, attorney Gabriella has interned in the State House of Representatives in Brazil and in the Consulate of Argentina.\n\n\n\n\n\n\n\nLaura RÃ³tolo\nLaura RÃ³tolo is staff counsel and community advocate at the ACLU of Massachusetts where she focuses on issues relating to immigrants. She joined the ACLU of Massachusetts in 2007\, first as a human rights fellow studying immigration detention conditions. Currently\, Laura works to create policies that safeguard fundamental rights\, as well as challenge policies that do not. As a Latina and an immigrant from Argentina\, she advocates within Latino immigrant communities in Massachusetts. Laura is a graduate of Tufts University\, the Fletcher School of Law and Diplomacy\, and American Universityâ€™s Washington College of Law.\n\n\nLaura tweets at @LauraRotolo\nRead blogs by Laura RÃ³tolo.\n\n\n\nDylan A. Fernandes\nDylan A. Fernandes is a Democratic member of the Massachusetts House of Representatives\, representing the Barnstable\, Dukes & Nantucket District. He was first elected to the chamber in 2016.\nhttps://malegislature.gov/Legislators/Profile/DAF1
URL:https://socialjusticemv.org/event/second-community-forum-on-immigration/
LOCATION:Martha’s Vineyard Hebrew Center\, 130 Center St\, Vineyard Haven\, MA\, 02568
ORGANIZER;CN="Martha's Vineyard Social Justice Leadership Foundation":MAILTO:mvsjlf@gmail.com
END:VEVENT
BEGIN:VEVENT
DTSTART;TZID=America/New_York:20170520T110000
DTEND;TZID=America/New_York:20170520T123000
DTSTAMP:20260423T114049
CREATED:20170325T024508Z
LAST-MODIFIED:20170325T134759Z
UID:174-1495278000-1495283400@socialjusticemv.org
SUMMARY:NAACP of Martha's Vineyard Monthly Meeting
DESCRIPTION:Martha’s Vineyard NAACP Branch Meetings are the third Saturday of every month at the Oak Bluffs Council on Aging at 11AM\n\n21 Wamsutta Ave. Oak Bluffs\, MA 02557
URL:https://socialjusticemv.org/event/naacp-of-marthas-vineyard-monthly-meeting-7/
LOCATION:Oak Bluffs Council on Aging\, 21 Wamsutta Avenue\, Oak Bluffs\, MA\, 02557\, United States
END:VEVENT
BEGIN:VEVENT
DTSTART;TZID=America/New_York:20170415T110000
DTEND;TZID=America/New_York:20170415T123000
DTSTAMP:20260423T114049
CREATED:20170316T064416Z
LAST-MODIFIED:20170325T020544Z
UID:94-1492254000-1492259400@socialjusticemv.org
SUMMARY:NAACP of Martha's Vineyard Monthly Meeting
DESCRIPTION:NAACP Martha’s Vineyard Branch Meetings are the third Saturday of every month at the Oak Bluffs Council on AgingÂ at 11:00AM\n21 Wamsutta Ave. Oak Bluffs\, MA 02557
URL:https://socialjusticemv.org/event/naacp-monthly-meeting/
LOCATION:Oak Bluffs Council on Aging\, 21 Wamsutta Avenue\, Oak Bluffs\, MA\, 02557\, United States
END:VEVENT
BEGIN:VEVENT
DTSTART;VALUE=DATE:20170214
DTEND;VALUE=DATE:20170215
DTSTAMP:20260423T114049
CREATED:20170105T220534Z
LAST-MODIFIED:20170105T220534Z
UID:38-1487030400-1487116799@socialjusticemv.org
SUMMARY:Valentines Day
DESCRIPTION:Test event #1
URL:https://socialjusticemv.org/event/valentines-day/
LOCATION:A\, Martha's Vineyard\, MA\, United States
END:VEVENT
BEGIN:VEVENT
DTSTART;TZID=America/New_York:20170110T180000
DTEND;TZID=America/New_York:20170110T200000
DTSTAMP:20260423T114049
CREATED:20170109T002747Z
LAST-MODIFIED:20170109T005112Z
UID:43-1484071200-1484078400@socialjusticemv.org
SUMMARY:MV COMMUNITY FORUM ON IMMIGRATION
DESCRIPTION:Every aspect of the American economy has profited from the contributions of immigrants. ~John F. Kennedy \n\nThe Marthaâ€™s Vineyard Social Justice Leadership Foundation announces a forum to discuss post-election information on immigration law\, potential risks to members of our community\, and strategies to support and protect immigrant families. Whether you are a legal immigrant or not\, you have rights and your Island supports you. Letâ€™s come together and talk.\n\n\nAdriana Lafaille\, ACLU-Boston Attorney\nMary Costello\, Edgartown Attorney\nElio Silva\, Vineyard Businessman\nLaura Silber\, We Stand Together\n\n\nModerator: Rebecca McCarthy\, Island Immigration Attorney \n\nFlyer (English-pdf)\n\nFlyer (Portuguese\, pdf)
URL:https://socialjusticemv.org/event/mv-community-forum-on-immigration/
LOCATION:Edgartown Library Community Room
END:VEVENT
END:VCALENDAR